BEGIN:VCALENDAR
VERSION:2.0
PRODID:-//North Carolina Head Start Association - ECPv6.15.20//NONSGML v1.0//EN
CALSCALE:GREGORIAN
METHOD:PUBLISH
X-WR-CALNAME:North Carolina Head Start Association
X-ORIGINAL-URL:https://headstartnc.org
X-WR-CALDESC:Events for North Carolina Head Start Association
REFRESH-INTERVAL;VALUE=DURATION:PT1H
X-Robots-Tag:noindex
X-PUBLISHED-TTL:PT1H
BEGIN:VTIMEZONE
TZID:UTC
BEGIN:STANDARD
TZOFFSETFROM:+0000
TZOFFSETTO:+0000
TZNAME:UTC
DTSTART:20210101T000000
END:STANDARD
END:VTIMEZONE
BEGIN:VEVENT
DTSTART;TZID=UTC:20221103T080000
DTEND;TZID=UTC:20221106T170000
DTSTAMP:20260422T222131
CREATED:20221103T055145Z
LAST-MODIFIED:20221103T070006Z
UID:10000002-1667462400-1667754000@headstartnc.org
SUMMARY:Annual Male Engagement Conference
DESCRIPTION:
URL:https://headstartnc.org/event/annual-male-engagement-conference/
LOCATION:Harrah’s Cherokee Casino Resort\, 777 Casino Dr.\,\, Cherokee\, NC\, 28719\, United States
END:VEVENT
BEGIN:VEVENT
DTSTART;TZID=UTC:20221103T080000
DTEND;TZID=UTC:20221104T120000
DTSTAMP:20260422T222131
CREATED:20221103T055313Z
LAST-MODIFIED:20221103T055313Z
UID:10000003-1667462400-1667563200@headstartnc.org
SUMMARY:Fall Leadership Training
DESCRIPTION:
URL:https://headstartnc.org/event/fall-leadership-training/
LOCATION:Harrah’s Cherokee Casino Resort\, 777 Casino Dr.\,\, Cherokee\, NC\, 28719\, United States
END:VEVENT
END:VCALENDAR