BEGIN:VCALENDAR
VERSION:2.0
PRODID:-//North Carolina Head Start Association - ECPv6.15.20//NONSGML v1.0//EN
CALSCALE:GREGORIAN
METHOD:PUBLISH
X-WR-CALNAME:North Carolina Head Start Association
X-ORIGINAL-URL:https://headstartnc.org
X-WR-CALDESC:Events for North Carolina Head Start Association
REFRESH-INTERVAL;VALUE=DURATION:PT1H
X-Robots-Tag:noindex
X-PUBLISHED-TTL:PT1H
BEGIN:VTIMEZONE
TZID:UTC
BEGIN:STANDARD
TZOFFSETFROM:+0000
TZOFFSETTO:+0000
TZNAME:UTC
DTSTART:20210101T000000
END:STANDARD
END:VTIMEZONE
BEGIN:VEVENT
DTSTART;TZID=UTC:20240722T080000
DTEND;TZID=UTC:20240723T170000
DTSTAMP:20260424T064201
CREATED:20240402T181837Z
LAST-MODIFIED:20240402T182900Z
UID:10000011-1721635200-1721754000@headstartnc.org
SUMMARY:Teacher's Institute 2024
DESCRIPTION:
URL:https://headstartnc.org/event/teachers-institute-2024/
LOCATION:Hotel Ballast\, 301 N Water S\, Wilmington\, NC\, 28401\, United States
ORGANIZER;CN="NC Head Start Association":MAILTO:info@headstartnc.org
END:VEVENT
BEGIN:VEVENT
DTSTART;TZID=UTC:20231024T080000
DTEND;TZID=UTC:20231026T170000
DTSTAMP:20260424T064201
CREATED:20230510T220918Z
LAST-MODIFIED:20230510T220918Z
UID:10000008-1698134400-1698339600@headstartnc.org
SUMMARY:Male Engagement Conference 2023
DESCRIPTION:
URL:https://headstartnc.org/event/male-engagement-conference-2023/
LOCATION:Harrah’s Cherokee Casino Resort\, 777 Casino Dr.\,\, Cherokee\, NC\, 28719\, United States
END:VEVENT
BEGIN:VEVENT
DTSTART;TZID=UTC:20230725T080000
DTEND;TZID=UTC:20230728T170000
DTSTAMP:20260424T064201
CREATED:20230510T220440Z
LAST-MODIFIED:20230510T220655Z
UID:10000007-1690272000-1690563600@headstartnc.org
SUMMARY:Family Engagement 2023
DESCRIPTION:
URL:https://headstartnc.org/event/family-engagement-2023/
LOCATION:Hotel Ballast\, 301 N Water S\, Wilmington\, NC\, 28401\, United States
END:VEVENT
BEGIN:VEVENT
DTSTART;TZID=UTC:20230502T080000
DTEND;TZID=UTC:20230504T120000
DTSTAMP:20260424T064201
CREATED:20230308T013652Z
LAST-MODIFIED:20230308T014101Z
UID:10000006-1683014400-1683201600@headstartnc.org
SUMMARY:Annual Conference 2023
DESCRIPTION:
URL:https://headstartnc.org/event/annual-conference-2023/
LOCATION:Sheraton Imperial\, 4700 Emperor Blvd\, Durham\, NC\, 27703\, United States
END:VEVENT
BEGIN:VEVENT
DTSTART;TZID=UTC:20230119T080000
DTEND;TZID=UTC:20230120T170000
DTSTAMP:20260424T064201
CREATED:20221103T055614Z
LAST-MODIFIED:20221103T055614Z
UID:10000004-1674115200-1674234000@headstartnc.org
SUMMARY:Winter Director's Caucus
DESCRIPTION:
URL:https://headstartnc.org/event/winter-directors-caucus/
LOCATION:NC
ORGANIZER;CN="NC Head Start Association":MAILTO:info@headstartnc.org
END:VEVENT
BEGIN:VEVENT
DTSTART;TZID=UTC:20221103T080000
DTEND;TZID=UTC:20221106T170000
DTSTAMP:20260424T064201
CREATED:20221103T055145Z
LAST-MODIFIED:20221103T070006Z
UID:10000002-1667462400-1667754000@headstartnc.org
SUMMARY:Annual Male Engagement Conference
DESCRIPTION:
URL:https://headstartnc.org/event/annual-male-engagement-conference/
LOCATION:Harrah’s Cherokee Casino Resort\, 777 Casino Dr.\,\, Cherokee\, NC\, 28719\, United States
END:VEVENT
BEGIN:VEVENT
DTSTART;TZID=UTC:20221103T080000
DTEND;TZID=UTC:20221104T120000
DTSTAMP:20260424T064201
CREATED:20221103T055313Z
LAST-MODIFIED:20221103T055313Z
UID:10000003-1667462400-1667563200@headstartnc.org
SUMMARY:Fall Leadership Training
DESCRIPTION:
URL:https://headstartnc.org/event/fall-leadership-training/
LOCATION:Harrah’s Cherokee Casino Resort\, 777 Casino Dr.\,\, Cherokee\, NC\, 28719\, United States
END:VEVENT
END:VCALENDAR